BEGIN:VCALENDAR
VERSION:2.0
PRODID:-//Mindfully Well - ECPv6.15.17.1//NONSGML v1.0//EN
CALSCALE:GREGORIAN
METHOD:PUBLISH
X-WR-CALNAME:Mindfully Well
X-ORIGINAL-URL:https://mindfully-well.com
X-WR-CALDESC:Events for Mindfully Well
REFRESH-INTERVAL;VALUE=DURATION:PT1H
X-Robots-Tag:noindex
X-PUBLISHED-TTL:PT1H
BEGIN:VTIMEZONE
TZID:America/Chicago
BEGIN:DAYLIGHT
TZOFFSETFROM:-0600
TZOFFSETTO:-0500
TZNAME:CDT
DTSTART:20230312T080000
END:DAYLIGHT
BEGIN:STANDARD
TZOFFSETFROM:-0500
TZOFFSETTO:-0600
TZNAME:CST
DTSTART:20231105T070000
END:STANDARD
BEGIN:DAYLIGHT
TZOFFSETFROM:-0600
TZOFFSETTO:-0500
TZNAME:CDT
DTSTART:20240310T080000
END:DAYLIGHT
BEGIN:STANDARD
TZOFFSETFROM:-0500
TZOFFSETTO:-0600
TZNAME:CST
DTSTART:20241103T070000
END:STANDARD
BEGIN:DAYLIGHT
TZOFFSETFROM:-0600
TZOFFSETTO:-0500
TZNAME:CDT
DTSTART:20250309T080000
END:DAYLIGHT
BEGIN:STANDARD
TZOFFSETFROM:-0500
TZOFFSETTO:-0600
TZNAME:CST
DTSTART:20251102T070000
END:STANDARD
END:VTIMEZONE
BEGIN:VTIMEZONE
TZID:UTC
BEGIN:STANDARD
TZOFFSETFROM:+0000
TZOFFSETTO:+0000
TZNAME:UTC
DTSTART:20230101T000000
END:STANDARD
END:VTIMEZONE
BEGIN:VEVENT
DTSTART;TZID=America/Chicago:20241204T173000
DTEND;TZID=America/Chicago:20241204T183000
DTSTAMP:20260419T131625
CREATED:20241112T034334Z
LAST-MODIFIED:20241112T034334Z
UID:10000003-1733333400-1733337000@mindfully-well.com
SUMMARY:AllyU's Women's Group
DESCRIPTION:Mindfully Well PLLC hosts AllyU’s women’s group. A space for women to be seen\, heard\, unite\, organize and rise!\nThis is a process group for all women who desire to collaborate with other women in a shared experience.\n$25 donation to AllyU Organization NFP\, a mental health nonprofit(allyu.org). Starts 11/20/24-2/5/2025. Wednesdays at 5:30-6:30 via Zoom.\nMindfully Well PLLC\, a private practice in Lake Forest will host this event. Host facilitator\, Allie Booth\, LCPC.
URL:https://mindfully-well.com/event/allyus-womens-group/
LOCATION:Zoom
CATEGORIES:Groups
ATTACH;FMTTYPE=image/jpeg:https://mindfully-well.com/wp-content/uploads/2024/11/pexels-yankrukov-8837164-1.jpg
END:VEVENT
BEGIN:VEVENT
DTSTART;TZID=UTC:20241127T120000
DTEND;TZID=UTC:20241127T130000
DTSTAMP:20260419T131625
CREATED:20241115T214954Z
LAST-MODIFIED:20241115T214954Z
UID:10000012-1732708800-1732712400@mindfully-well.com
SUMMARY:Perimenopause/Menopause Group
DESCRIPTION:Group to meet on Wednesdays via zoom at noon.
URL:https://mindfully-well.com/event/perimenopause-menopause-group/
LOCATION:Zoom
CATEGORIES:Groups
ATTACH;FMTTYPE=image/jpeg:https://mindfully-well.com/wp-content/uploads/2024/11/StockCake-Artistic-Joyful-Gathering_1727288322.jpg
END:VEVENT
BEGIN:VEVENT
DTSTART;TZID=America/Chicago:20241120T173000
DTEND;TZID=America/Chicago:20241120T183000
DTSTAMP:20260419T131625
CREATED:20241111T183233Z
LAST-MODIFIED:20241112T034232Z
UID:10000002-1732123800-1732127400@mindfully-well.com
SUMMARY:AllyU's Women's Group
DESCRIPTION:Mindfully Well PLLC hosts AllyU’s women’s group. A space for women to be seen\, heard\, unite\, organize and rise!\nThis is a process group for all women who desire to collaborate with other women in a shared experience.\n$25 donation to AllyU Organization NFP\, a mental health nonprofit(allyu.org). Starts 11/20/24-2/5/2025. Wednesdays at 5:30-6:30 via Zoom.\nMindfully Well PLLC\, a private practice in Lake Forest will host this event. Host facilitator\, Allie Booth\, LCPC.
URL:https://mindfully-well.com/event/womens-group/
LOCATION:Zoom
CATEGORIES:Groups
ATTACH;FMTTYPE=image/jpeg:https://mindfully-well.com/wp-content/uploads/2024/11/pexels-yankrukov-8837164-1.jpg
END:VEVENT
BEGIN:VEVENT
DTSTART;TZID=America/Chicago:20241119T120000
DTEND;TZID=America/Chicago:20241119T130000
DTSTAMP:20260419T131625
CREATED:20241110T075743Z
LAST-MODIFIED:20241112T041213Z
UID:10000001-1732017600-1732021200@mindfully-well.com
SUMMARY:Guided Meditation with Reiki
DESCRIPTION:This is a small group event for discovery\, transformation\, and healing. Every Tuesday from 12pm-12:55pm guided meditation with transformational reiki\, chakra clearing\, discussion and guidance.  In-person only \nPractitioner has been a reiki master for 20+ years\, professional counselor\, educator and healer. \nPrivate sessions are available by appointment only. Please contact us to schedule. \n  \n 
URL:https://mindfully-well.com/event/guided-meditations-101/
LOCATION:Mindfully Well\, 1025 W Everett Rd Ste 5\,\, Lake Forest\, IL\, 60045\, United States
CATEGORIES:class-workshop
ATTACH;FMTTYPE=image/jpeg:https://mindfully-well.com/wp-content/uploads/2024/11/pexels-arina-krasnikova-6998244-1.jpg
END:VEVENT
END:VCALENDAR