BEGIN:VCALENDAR
VERSION:2.0
PRODID:-//Mindfully Well - ECPv6.15.17.1//NONSGML v1.0//EN
CALSCALE:GREGORIAN
METHOD:PUBLISH
X-WR-CALNAME:Mindfully Well
X-ORIGINAL-URL:https://mindfully-well.com
X-WR-CALDESC:Events for Mindfully Well
REFRESH-INTERVAL;VALUE=DURATION:PT1H
X-Robots-Tag:noindex
X-PUBLISHED-TTL:PT1H
BEGIN:VTIMEZONE
TZID:America/Chicago
BEGIN:DAYLIGHT
TZOFFSETFROM:-0600
TZOFFSETTO:-0500
TZNAME:CDT
DTSTART:20250309T080000
END:DAYLIGHT
BEGIN:STANDARD
TZOFFSETFROM:-0500
TZOFFSETTO:-0600
TZNAME:CST
DTSTART:20251102T070000
END:STANDARD
BEGIN:DAYLIGHT
TZOFFSETFROM:-0600
TZOFFSETTO:-0500
TZNAME:CDT
DTSTART:20260308T080000
END:DAYLIGHT
BEGIN:STANDARD
TZOFFSETFROM:-0500
TZOFFSETTO:-0600
TZNAME:CST
DTSTART:20261101T070000
END:STANDARD
BEGIN:DAYLIGHT
TZOFFSETFROM:-0600
TZOFFSETTO:-0500
TZNAME:CDT
DTSTART:20270314T080000
END:DAYLIGHT
BEGIN:STANDARD
TZOFFSETFROM:-0500
TZOFFSETTO:-0600
TZNAME:CST
DTSTART:20271107T070000
END:STANDARD
END:VTIMEZONE
BEGIN:VEVENT
DTSTART;TZID=America/Chicago:20260418T090000
DTEND;TZID=America/Chicago:20260418T160000
DTSTAMP:20260421T132454
CREATED:20260312T201707Z
LAST-MODIFIED:20260312T201707Z
UID:10000143-1776502800-1776528000@mindfully-well.com
SUMMARY:Intentional Transformation Intensive
DESCRIPTION:The Intentional Transformation Intensive is designed for people who want more than weekly therapy\, but don’t need or want a traditional treatment program. This program isn’t about fixing what’s wrong.  It’s about creating momentum during a meaningful transition. \nAnyone who is navigating life transitions (career changes\, relationship shifts\, identity changes\, burnout\, or “what’s next” moments) can benefit from the Intentional Transformation one-day Intensive. If you know you want something different but can’t yet see the path\, we can help you with a reset\, a pause\, or a recalibration. \nWeekly sessions can be helpful\, but during transitions\, spacing work too far apart can slow momentum. This intensive format creates a contained space to practice skills repeatedly\, integrate insights quickly\, and build confidence through action. It’s not about doing more. It’s about doing the right things\, with support\, at the right time. When life changes\, support should change too. This program offers a steady bridge from where you are to where you’re ready to go. \nThe workshop includes guided reflection\, skills practice\, and structured planning. Participants leave with a clear 30–90 day plan outlining priorities\, routines\, and intentional next steps.
URL:https://mindfully-well.com/event/intentional-transformation-intensive/
LOCATION:Mindfully Well\, 1025 W Everett Rd Ste 5\,\, Lake Forest\, IL\, 60045\, United States
CATEGORIES:intensive-session-event
ATTACH;FMTTYPE=image/jpeg:https://mindfully-well.com/wp-content/uploads/2025/12/transformation-scaled-e1765840682853.jpg
END:VEVENT
END:VCALENDAR